BEGIN:VCALENDAR
VERSION:2.0
PRODID:-//wp-events-plugin.com//7.2.3.1//EN
BEGIN:VEVENT
UID:15@navikylaselts.ee
DTSTART:20240124T100000Z
DTEND:20240124T120000Z
DTSTAMP:20240115T042056Z
URL:https://navikylaselts.ee/uritused/vaarikate-ulikooli-loeng/
SUMMARY:Väärikate ülikooli loeng
DESCRIPTION:
ATTACH;FMTTYPE=image/jpeg:https://navikylaselts.ee/wp-content/uploads/2024
 /01/Vaarikate-ulikool-2024_kevad-a4.jpg
END:VEVENT
END:VCALENDAR